Package: MICSQTL Version: 1.7.0 Command: F:\biocbuild\bbs-3.22-bioc\R\bin\R.exe CMD check --no-multiarch --install=check:MICSQTL.install-out.txt --library=F:\biocbuild\bbs-3.22-bioc\R\library --no-vignettes --timings MICSQTL_1.7.0.tar.gz StartedAt: 2025-08-15 05:12:08 -0400 (Fri, 15 Aug 2025) EndedAt: 2025-08-15 05:25:02 -0400 (Fri, 15 Aug 2025) EllapsedTime: 774.4 seconds RetCode: 0 Status: OK CheckDir: MICSQTL.Rcheck Warnings: 0