Package: MICSQTL Version: 1.7.0 Command: chmod a+r MICSQTL -R && F:\biocbuild\bbs-3.22-bioc\R\bin\R.exe CMD build --keep-empty-dirs --no-resave-data MICSQTL StartedAt: 2025-08-14 21:29:10 -0400 (Thu, 14 Aug 2025) EndedAt: 2025-08-14 21:30:37 -0400 (Thu, 14 Aug 2025) EllapsedTime: 86.9 seconds RetCode: 0 Status: OK PackageFile: MICSQTL_1.7.0.tar.gz PackageFileSize: 3.085 MiB