Package: MGnifyR Version: 1.5.0 Command: F:\biocbuild\bbs-3.22-bioc\R\bin\R.exe CMD INSTALL MGnifyR StartedAt: 2025-08-14 17:02:02 -0400 (Thu, 14 Aug 2025) EndedAt: 2025-08-14 17:03:05 -0400 (Thu, 14 Aug 2025) EllapsedTime: 63.0 seconds RetCode: 0 Status: OK