Package: MGnifyR Version: 1.5.0 Command: F:\biocbuild\bbs-3.22-bioc\R\bin\R.exe CMD check --no-multiarch --install=check:MGnifyR.install-out.txt --library=F:\biocbuild\bbs-3.22-bioc\R\library --no-vignettes --timings MGnifyR_1.5.0.tar.gz StartedAt: 2025-08-15 05:07:46 -0400 (Fri, 15 Aug 2025) EndedAt: 2025-08-15 05:20:30 -0400 (Fri, 15 Aug 2025) EllapsedTime: 763.4 seconds RetCode: 0 Status: OK CheckDir: MGnifyR.Rcheck Warnings: 0