Package: MGnifyR Version: 1.5.0 Command: chmod a+r MGnifyR -R && F:\biocbuild\bbs-3.22-bioc\R\bin\R.exe CMD build --keep-empty-dirs --no-resave-data MGnifyR StartedAt: 2025-08-14 21:26:55 -0400 (Thu, 14 Aug 2025) EndedAt: 2025-08-14 21:29:09 -0400 (Thu, 14 Aug 2025) EllapsedTime: 133.5 seconds RetCode: 0 Status: OK PackageFile: MGnifyR_1.5.0.tar.gz PackageFileSize: 4.187 MiB