Package: MGnifyR Version: 1.5.1 Command: /Library/Frameworks/R.framework/Resources/bin/R CMD check --install=check:MGnifyR.install-out.txt --library=/Library/Frameworks/R.framework/Resources/library --no-vignettes --timings MGnifyR_1.5.1.tar.gz StartedAt: 2025-10-20 20:39:53 -0400 (Mon, 20 Oct 2025) EndedAt: 2025-10-20 20:48:52 -0400 (Mon, 20 Oct 2025) EllapsedTime: 538.2 seconds RetCode: 0 Status: OK CheckDir: MGnifyR.Rcheck Warnings: 0