Package: MGnifyR Version: 1.5.1 Command: /Library/Frameworks/R.framework/Resources/bin/R CMD build --keep-empty-dirs --no-resave-data MGnifyR StartedAt: 2025-10-20 16:58:57 -0400 (Mon, 20 Oct 2025) EndedAt: 2025-10-20 16:59:39 -0400 (Mon, 20 Oct 2025) EllapsedTime: 42.4 seconds RetCode: 0 Status: OK PackageFile: MGnifyR_1.5.1.tar.gz PackageFileSize: 4.298 MiB