Package: MGnifyR Version: 1.5.1 Command: rm -rf MGnifyR.buildbin-libdir && mkdir MGnifyR.buildbin-libdir && /Users/biocbuild/BBS/utils/build-universal.sh MGnifyR_1.5.1.tar.gz /Library/Frameworks/R.framework/Resources/bin/R MGnifyR.buildbin-libdir StartedAt: 2025-10-20 23:07:07 -0400 (Mon, 20 Oct 2025) EndedAt: 2025-10-20 23:07:26 -0400 (Mon, 20 Oct 2025) EllapsedTime: 18.4 seconds RetCode: 0 Status: OK PackageFile: MGnifyR_1.5.1.tgz PackageFileSize: 4.385 MiB