Package: MGFM Version: 1.43.0 Command: /home/biocbuild/R/R/bin/R CMD INSTALL MGFM StartedAt: 2025-10-16 21:42:04 -0000 (Thu, 16 Oct 2025) EndedAt: 2025-10-16 21:42:22 -0000 (Thu, 16 Oct 2025) EllapsedTime: 17.5 seconds RetCode: 0 Status: OK