Package: MGFM Version: 1.43.0 Command: /home/biocbuild/R/R/bin/R CMD build --keep-empty-dirs --no-resave-data MGFM StartedAt: 2025-10-17 02:39:03 -0000 (Fri, 17 Oct 2025) EndedAt: 2025-10-17 02:39:36 -0000 (Fri, 17 Oct 2025) EllapsedTime: 33.0 seconds RetCode: 0 Status: OK PackageFile: MGFM_1.43.0.tar.gz PackageFileSize: 3.483 MiB