Package: MGFM Version: 1.43.0 Command: F:\biocbuild\bbs-3.22-bioc\R\bin\R.exe CMD INSTALL MGFM StartedAt: 2025-08-14 16:03:53 -0400 (Thu, 14 Aug 2025) EndedAt: 2025-08-14 16:04:09 -0400 (Thu, 14 Aug 2025) EllapsedTime: 16.3 seconds RetCode: 0 Status: OK