Package: MGFM Version: 1.43.0 Command: rm -rf MGFM.buildbin-libdir && mkdir MGFM.buildbin-libdir && F:\biocbuild\bbs-3.22-bioc\R\bin\R.exe CMD INSTALL --build --library=MGFM.buildbin-libdir MGFM_1.43.0.tar.gz StartedAt: 2025-08-15 10:41:33 -0400 (Fri, 15 Aug 2025) EndedAt: 2025-08-15 10:41:49 -0400 (Fri, 15 Aug 2025) EllapsedTime: 15.7 seconds RetCode: 0 Status: OK PackageFile: MGFM_1.43.0.zip PackageFileSize: 2.947 MiB