Package: MGFM Version: 1.43.0 Command: /Library/Frameworks/R.framework/Resources/bin/R CMD INSTALL MGFM StartedAt: 2025-10-19 15:29:45 -0400 (Sun, 19 Oct 2025) EndedAt: 2025-10-19 15:30:03 -0400 (Sun, 19 Oct 2025) EllapsedTime: 18.3 seconds RetCode: 0 Status: OK