Package: MGFM Version: 1.43.0 Command: /Library/Frameworks/R.framework/Resources/bin/R CMD build --keep-empty-dirs --no-resave-data MGFM StartedAt: 2025-10-19 18:04:31 -0400 (Sun, 19 Oct 2025) EndedAt: 2025-10-19 18:05:27 -0400 (Sun, 19 Oct 2025) EllapsedTime: 55.7 seconds RetCode: 0 Status: OK PackageFile: MGFM_1.43.0.tar.gz PackageFileSize: 3.491 MiB