Package: MGFM Version: 1.43.0 Command: rm -rf MGFM.buildbin-libdir && mkdir MGFM.buildbin-libdir && /Users/biocbuild/BBS/utils/build-universal.sh MGFM_1.43.0.tar.gz /Library/Frameworks/R.framework/Resources/bin/R MGFM.buildbin-libdir StartedAt: 2025-10-20 03:18:30 -0400 (Mon, 20 Oct 2025) EndedAt: 2025-10-20 03:18:52 -0400 (Mon, 20 Oct 2025) EllapsedTime: 21.9 seconds RetCode: 0 Status: OK PackageFile: MGFM_1.43.0.tgz PackageFileSize: 3.137 MiB