Package: MGFM Version: 1.43.0 Maintainer: Khadija El Amrani MaintainerEmail: khadija.el-amrani at charite.de git_url: https://git.bioconductor.org/packages/MGFM git_branch: devel git_last_commit: 95761a8 git_last_commit_date: 2025-04-15 10:34:19 -0400 (Tue, 15 Apr 2025)