Package: MEIGOR Version: 1.44.0 Command: /home/biocbuild/bbs-3.22-bioc/R/bin/R CMD check --install=check:MEIGOR.install-out.txt --library=/home/biocbuild/bbs-3.22-bioc/R/site-library --timings MEIGOR_1.44.0.tar.gz StartedAt: 2025-11-07 01:08:13 -0500 (Fri, 07 Nov 2025) EndedAt: 2025-11-07 01:10:20 -0500 (Fri, 07 Nov 2025) EllapsedTime: 126.1 seconds RetCode: 0 Status: OK CheckDir: MEIGOR.Rcheck Warnings: 0