Package: MEIGOR Version: 1.44.0 Command: /Library/Frameworks/R.framework/Resources/bin/R CMD build --keep-empty-dirs --no-resave-data MEIGOR StartedAt: 2025-11-10 16:55:31 -0500 (Mon, 10 Nov 2025) EndedAt: 2025-11-10 16:55:54 -0500 (Mon, 10 Nov 2025) EllapsedTime: 23.3 seconds RetCode: 0 Status: OK PackageFile: MEIGOR_1.44.0.tar.gz PackageFileSize: 1.798 MiB