Package: MEIGOR Version: 1.44.0 Command: rm -rf MEIGOR.buildbin-libdir && mkdir MEIGOR.buildbin-libdir && /Users/biocbuild/BBS/utils/build-universal.sh MEIGOR_1.44.0.tar.gz /Library/Frameworks/R.framework/Resources/bin/R MEIGOR.buildbin-libdir StartedAt: 2025-11-10 23:25:54 -0500 (Mon, 10 Nov 2025) EndedAt: 2025-11-10 23:26:00 -0500 (Mon, 10 Nov 2025) EllapsedTime: 5.2 seconds RetCode: 0 Status: OK PackageFile: MEIGOR_1.44.0.tgz PackageFileSize: 1.925 MiB