Package: MEDME Version: 1.69.0 Command: F:\biocbuild\bbs-3.22-bioc\R\bin\R.exe CMD check --no-multiarch --install=check:MEDME.install-out.txt --library=F:\biocbuild\bbs-3.22-bioc\R\library --no-vignettes --timings MEDME_1.69.0.tar.gz StartedAt: 2025-08-15 04:52:14 -0400 (Fri, 15 Aug 2025) EndedAt: 2025-08-15 04:54:45 -0400 (Fri, 15 Aug 2025) EllapsedTime: 150.7 seconds RetCode: 0 Status: WARNINGS CheckDir: MEDME.Rcheck Warnings: 1