Package: MEDIPS Version: 1.62.0 Command: /home/biocbuild/R/R/bin/R CMD check --install=check:MEDIPS.install-out.txt --library=/home/biocbuild/R/R/site-library --no-vignettes --timings MEDIPS_1.62.0.tar.gz StartedAt: 2025-11-21 12:31:57 -0000 (Fri, 21 Nov 2025) EndedAt: 2025-11-21 12:39:12 -0000 (Fri, 21 Nov 2025) EllapsedTime: 435.5 seconds RetCode: 0 Status: OK CheckDir: MEDIPS.Rcheck Warnings: 0