Package: MEAT Version: 1.21.0 Command: /Library/Frameworks/R.framework/Resources/bin/R CMD check --install=check:MEAT.install-out.txt --library=/Library/Frameworks/R.framework/Resources/library --no-vignettes --timings MEAT_1.21.0.tar.gz StartedAt: 2025-10-17 23:22:20 -0400 (Fri, 17 Oct 2025) EndedAt: 2025-10-17 23:29:15 -0400 (Fri, 17 Oct 2025) EllapsedTime: 414.5 seconds RetCode: 0 Status: WARNINGS CheckDir: MEAT.Rcheck Warnings: 1