Package: MDTS Version: 1.29.0 Command: /home/biocbuild/R/R/bin/R CMD INSTALL MDTS StartedAt: 2025-10-23 20:46:39 -0000 (Thu, 23 Oct 2025) EndedAt: 2025-10-23 20:47:10 -0000 (Thu, 23 Oct 2025) EllapsedTime: 30.9 seconds RetCode: 0 Status: OK