Package: MDTS Version: 1.30.0 Command: /Library/Frameworks/R.framework/Resources/bin/R CMD check --install=check:MDTS.install-out.txt --library=/Library/Frameworks/R.framework/Resources/library --no-vignettes --timings MDTS_1.30.0.tar.gz StartedAt: 2025-11-21 07:24:08 -0500 (Fri, 21 Nov 2025) EndedAt: 2025-11-21 07:30:26 -0500 (Fri, 21 Nov 2025) EllapsedTime: 378.2 seconds RetCode: 0 Status: OK CheckDir: MDTS.Rcheck Warnings: 0