Package: MDTS Version: 1.30.0 Command: /Library/Frameworks/R.framework/Resources/bin/R CMD build --keep-empty-dirs --no-resave-data MDTS StartedAt: 2025-11-20 21:22:17 -0500 (Thu, 20 Nov 2025) EndedAt: 2025-11-20 21:23:45 -0500 (Thu, 20 Nov 2025) EllapsedTime: 88.2 seconds RetCode: 0 Status: OK PackageFile: MDTS_1.30.0.tar.gz PackageFileSize: 31.8 KiB