Package: MDTS Version: 1.30.0 Command: /Library/Frameworks/R.framework/Resources/bin/R CMD INSTALL MDTS StartedAt: 2025-10-31 15:19:38 -0400 (Fri, 31 Oct 2025) EndedAt: 2025-10-31 15:19:49 -0400 (Fri, 31 Oct 2025) EllapsedTime: 10.9 seconds RetCode: 0 Status: OK