Package: MDTS Version: 1.30.0 Command: /Library/Frameworks/R.framework/Resources/bin/R CMD INSTALL MDTS StartedAt: 2025-11-20 17:26:47 -0500 (Thu, 20 Nov 2025) EndedAt: 2025-11-20 17:27:16 -0500 (Thu, 20 Nov 2025) EllapsedTime: 28.6 seconds RetCode: 0 Status: OK