Package: MDTS Version: 1.30.0 Command: /Library/Frameworks/R.framework/Resources/bin/R CMD build --keep-empty-dirs --no-resave-data MDTS StartedAt: 2025-11-21 04:21:45 -0500 (Fri, 21 Nov 2025) EndedAt: 2025-11-21 04:22:33 -0500 (Fri, 21 Nov 2025) EllapsedTime: 48.4 seconds RetCode: 0 Status: OK PackageFile: MDTS_1.30.0.tar.gz PackageFileSize: 31.82 KiB