Package: MDTS Version: 1.30.0 Command: rm -rf MDTS.buildbin-libdir && mkdir MDTS.buildbin-libdir && /Users/biocbuild/BBS/utils/build-universal.sh MDTS_1.30.0.tar.gz /Library/Frameworks/R.framework/Resources/bin/R MDTS.buildbin-libdir StartedAt: 2025-11-23 09:35:47 -0500 (Sun, 23 Nov 2025) EndedAt: 2025-11-23 09:36:33 -0500 (Sun, 23 Nov 2025) EllapsedTime: 46.3 seconds RetCode: 0 Status: OK PackageFile: MDTS_1.30.0.tgz PackageFileSize: 79.96 KiB