Package: MBttest Version: 1.37.0 Command: /home/biocbuild/bbs-3.22-bioc/R/bin/R CMD INSTALL MBttest StartedAt: 2025-10-20 15:02:47 -0400 (Mon, 20 Oct 2025) EndedAt: 2025-10-20 15:03:01 -0400 (Mon, 20 Oct 2025) EllapsedTime: 13.2 seconds RetCode: 0 Status: OK