Package: MBttest Version: 1.37.0 Command: /home/biocbuild/bbs-3.22-bioc/R/bin/R CMD build --keep-empty-dirs --no-resave-data --md5 MBttest StartedAt: 2025-10-19 18:29:57 -0400 (Sun, 19 Oct 2025) EndedAt: 2025-10-19 18:30:14 -0400 (Sun, 19 Oct 2025) EllapsedTime: 17.0 seconds RetCode: 0 Status: OK PackageFile: MBttest_1.37.0.tar.gz PackageFileSize: 3.448 MiB