Package: MBttest Version: 1.37.0 Command: /Library/Frameworks/R.framework/Resources/bin/R CMD INSTALL MBttest StartedAt: 2025-10-19 15:07:32 -0400 (Sun, 19 Oct 2025) EndedAt: 2025-10-19 15:08:04 -0400 (Sun, 19 Oct 2025) EllapsedTime: 32.0 seconds RetCode: 0 Status: OK