Package: MBttest Version: 1.37.0 Command: /Library/Frameworks/R.framework/Resources/bin/R CMD build --keep-empty-dirs --no-resave-data MBttest StartedAt: 2025-10-19 17:55:57 -0400 (Sun, 19 Oct 2025) EndedAt: 2025-10-19 17:56:29 -0400 (Sun, 19 Oct 2025) EllapsedTime: 32.3 seconds RetCode: 0 Status: OK PackageFile: MBttest_1.37.0.tar.gz PackageFileSize: 3.446 MiB