Package: MBttest Version: 1.37.0 Command: /Library/Frameworks/R.framework/Resources/bin/R CMD INSTALL MBttest StartedAt: 2025-10-05 15:02:27 -0400 (Sun, 05 Oct 2025) EndedAt: 2025-10-05 15:02:33 -0400 (Sun, 05 Oct 2025) EllapsedTime: 6.0 seconds RetCode: 0 Status: OK