Package: MBttest Version: 1.37.0 Command: rm -rf MBttest.buildbin-libdir && mkdir MBttest.buildbin-libdir && /Users/biocbuild/BBS/utils/build-universal.sh MBttest_1.37.0.tar.gz /Library/Frameworks/R.framework/Resources/bin/R MBttest.buildbin-libdir StartedAt: 2025-10-06 22:49:37 -0400 (Mon, 06 Oct 2025) EndedAt: 2025-10-06 22:49:39 -0400 (Mon, 06 Oct 2025) EllapsedTime: 2.0 seconds RetCode: 0 Status: OK PackageFile: MBttest_1.37.0.tgz PackageFileSize: 2.588 MiB