Package: MBQN Version: 2.21.0 Command: /home/biocbuild/R/R/bin/R CMD INSTALL MBQN StartedAt: 2025-10-23 20:41:18 -0000 (Thu, 23 Oct 2025) EndedAt: 2025-10-23 20:41:22 -0000 (Thu, 23 Oct 2025) EllapsedTime: 3.7 seconds RetCode: 0 Status: OK