Package: MBQN Version: 2.21.0 Command: /home/biocbuild/R/R/bin/R CMD build --keep-empty-dirs --no-resave-data MBQN StartedAt: 2025-10-21 00:59:46 -0000 (Tue, 21 Oct 2025) EndedAt: 2025-10-21 00:59:58 -0000 (Tue, 21 Oct 2025) EllapsedTime: 12.0 seconds RetCode: 0 Status: OK PackageFile: MBQN_2.21.0.tar.gz PackageFileSize: 108.3 KiB