Package: MBQN Version: 2.21.0 Command: /Library/Frameworks/R.framework/Resources/bin/R CMD INSTALL MBQN StartedAt: 2025-10-19 15:21:55 -0400 (Sun, 19 Oct 2025) EndedAt: 2025-10-19 15:21:59 -0400 (Sun, 19 Oct 2025) EllapsedTime: 4.6 seconds RetCode: 0 Status: OK