Package: MBQN Version: 2.21.0 Command: /Library/Frameworks/R.framework/Resources/bin/R CMD build --keep-empty-dirs --no-resave-data MBQN StartedAt: 2025-10-19 16:52:50 -0400 (Sun, 19 Oct 2025) EndedAt: 2025-10-19 16:52:54 -0400 (Sun, 19 Oct 2025) EllapsedTime: 4.0 seconds RetCode: 0 Status: OK PackageFile: MBQN_2.21.0.tar.gz PackageFileSize: 220.8 KiB