Package: MBCB Version: 1.63.0 Command: /home/biocbuild/R/R/bin/R CMD INSTALL MBCB StartedAt: 2025-10-23 20:29:56 -0000 (Thu, 23 Oct 2025) EndedAt: 2025-10-23 20:30:16 -0000 (Thu, 23 Oct 2025) EllapsedTime: 20.1 seconds RetCode: 0 Status: OK