Package: MBCB Version: 1.63.0 Command: rm -rf MBCB.buildbin-libdir && mkdir MBCB.buildbin-libdir && F:\biocbuild\bbs-3.22-bioc\R\bin\R.exe CMD INSTALL --build --library=MBCB.buildbin-libdir MBCB_1.63.0.tar.gz StartedAt: 2025-08-15 10:38:12 -0400 (Fri, 15 Aug 2025) EndedAt: 2025-08-15 10:38:18 -0400 (Fri, 15 Aug 2025) EllapsedTime: 5.7 seconds RetCode: 0 Status: OK PackageFile: MBCB_1.63.0.zip PackageFileSize: 382.2 KiB