Package: MBCB Version: 1.63.0 Command: /home/biocbuild/bbs-3.22-bioc/R/bin/R CMD INSTALL MBCB StartedAt: 2025-10-19 15:12:46 -0400 (Sun, 19 Oct 2025) EndedAt: 2025-10-19 15:12:50 -0400 (Sun, 19 Oct 2025) EllapsedTime: 3.7 seconds RetCode: 0 Status: OK