Package: MBCB Version: 1.63.0 Command: /Library/Frameworks/R.framework/Resources/bin/R CMD INSTALL MBCB StartedAt: 2025-10-21 15:15:57 -0400 (Tue, 21 Oct 2025) EndedAt: 2025-10-21 15:16:09 -0400 (Tue, 21 Oct 2025) EllapsedTime: 12.3 seconds RetCode: 0 Status: OK