Package: MBCB Version: 1.63.0 Command: /Library/Frameworks/R.framework/Resources/bin/R CMD check --install=check:MBCB.install-out.txt --library=/Library/Frameworks/R.framework/Resources/library --no-vignettes --timings MBCB_1.63.0.tar.gz StartedAt: 2025-10-21 23:00:29 -0400 (Tue, 21 Oct 2025) EndedAt: 2025-10-21 23:01:02 -0400 (Tue, 21 Oct 2025) EllapsedTime: 33.3 seconds RetCode: 0 Status: OK CheckDir: MBCB.Rcheck Warnings: 0