Package: MBCB Version: 1.63.0 Command: rm -rf MBCB.buildbin-libdir && mkdir MBCB.buildbin-libdir && /Users/biocbuild/BBS/utils/build-universal.sh MBCB_1.63.0.tar.gz /Library/Frameworks/R.framework/Resources/bin/R MBCB.buildbin-libdir StartedAt: 2025-10-22 02:32:47 -0400 (Wed, 22 Oct 2025) EndedAt: 2025-10-22 02:32:57 -0400 (Wed, 22 Oct 2025) EllapsedTime: 9.3 seconds RetCode: 0 Status: OK PackageFile: MBCB_1.63.0.tgz PackageFileSize: 471 KiB