Package: MBCB Version: 1.63.0 Command: rm -rf MBCB.buildbin-libdir && mkdir MBCB.buildbin-libdir && /Users/biocbuild/BBS/utils/build-universal.sh MBCB_1.63.0.tar.gz /Library/Frameworks/R.framework/Resources/bin/R MBCB.buildbin-libdir StartedAt: 2025-10-21 23:06:40 -0400 (Tue, 21 Oct 2025) EndedAt: 2025-10-21 23:06:43 -0400 (Tue, 21 Oct 2025) EllapsedTime: 3.1 seconds RetCode: 0 Status: OK PackageFile: MBCB_1.63.0.tgz PackageFileSize: 471.8 KiB