Package: MBASED Version: 1.43.0 Command: /home/biocbuild/bbs-3.22-bioc/R/bin/R CMD INSTALL MBASED StartedAt: 2025-10-17 15:30:09 -0400 (Fri, 17 Oct 2025) EndedAt: 2025-10-17 15:30:29 -0400 (Fri, 17 Oct 2025) EllapsedTime: 20.1 seconds RetCode: 0 Status: OK