Package: MBASED Version: 1.43.0 Command: /home/biocbuild/bbs-3.22-bioc/R/bin/R CMD build --keep-empty-dirs --no-resave-data --md5 MBASED StartedAt: 2025-10-17 18:25:57 -0400 (Fri, 17 Oct 2025) EndedAt: 2025-10-17 18:27:37 -0400 (Fri, 17 Oct 2025) EllapsedTime: 100.1 seconds RetCode: 0 Status: OK PackageFile: MBASED_1.43.0.tar.gz PackageFileSize: 366.5 KiB