Package: MAST Version: 1.35.2 Command: /home/biocbuild/R/R/bin/R CMD INSTALL MAST StartedAt: 2025-10-16 21:33:29 -0000 (Thu, 16 Oct 2025) EndedAt: 2025-10-16 21:34:24 -0000 (Thu, 16 Oct 2025) EllapsedTime: 55.3 seconds RetCode: 0 Status: OK