Package: MAST Version: 1.35.2 Command: /home/biocbuild/R/R/bin/R CMD build --keep-empty-dirs --no-resave-data MAST StartedAt: 2025-10-17 02:21:48 -0000 (Fri, 17 Oct 2025) EndedAt: 2025-10-17 02:28:34 -0000 (Fri, 17 Oct 2025) EllapsedTime: 405.1 seconds RetCode: 0 Status: OK PackageFile: MAST_1.35.2.tar.gz PackageFileSize: 5.92 MiB